BEGIN:VCALENDAR
VERSION:2.0
PRODID:-//ExpressionEngine Easy iCalendar plugin//NONSGML v2.0.0//EN
X-WR-TIMEZONE:America/Chicago
X-WR-CALNAME:Upcoming Auctions
BEGIN:VEVENT
UID:101062
DTSTAMP:20230603T100000
DTSTART:20230603T100000
DTEND:20230603T110000
SUMMARY:2352 Braxton Bragg Drive\, Murfreesboro
LOCATION:2352 Braxton Bragg Drive\, Mufreesboro\, TN 37129\, US
DESCRIPTION:Charming Murfreesboro property in Manson Manor subdivision o
 n the west side. No city taxes\, county location. 3-bed\, 2-ba
 th brick ranch with sunroom\, 2-car garage\, and heated/cooled
  living spaces. Upgraded features include rosewood flooring\,
  double hung thermal pane windows\, and Safe Step walk-in tub
  in the master bedroom. Spacious corner lot (140x200) with f
 enced yard\, concrete drive\, front porch\, and patio. Built in
  1978\, tax info shows 1\,816 sq ft. Also selling personal pro
 perty after the real estate.
URL:https://www.parksauction.com/auctions/detail/bw101062
SEQUENCE:1
END:VEVENT
END:VCALENDAR