BEGIN:VCALENDAR
VERSION:2.0
PRODID:-//ExpressionEngine Easy iCalendar plugin//NONSGML v2.0.1//EN
X-WR-TIMEZONE:America/Chicago
X-WR-CALNAME:Upcoming Auctions
BEGIN:VEVENT
UID:104109
DTSTAMP:20230729T100000
DTSTART:20230729T100000
DTEND:20230729T110000
SUMMARY:53 Golden Street\, Dunlap
LOCATION:53 Golden Street\, Dunlap\, TN 37327\, US
DESCRIPTION:A Little Bit of Everything in the Lusk Community! Nestled be
 tween the Cumberland Plateau & Walden Ridge in Sequatchie Va
 lley\, offered at public auction:   • 6 lots w/ undergrou
 nd utilities\, some with concrete drives   • Seven 5+ acre
  tracts   • 1 manufactured 3 bedroom\, 2 bath home     
 • Road frontage on three sides: Old York Highway\, US Highw
 ay 127\, and Golden Street. Don’t let this chance slip awa
 y! 
URL:https://www.parksauction.com/auctions/detail/bw104109
SEQUENCE:1
END:VEVENT
END:VCALENDAR