BEGIN:VCALENDAR
VERSION:2.0
PRODID:-//ExpressionEngine Easy iCalendar plugin//NONSGML v2.0.0//EN
X-WR-TIMEZONE:America/Chicago
X-WR-CALNAME:Upcoming Auctions
BEGIN:VEVENT
UID:113927
DTSTAMP:20240201T130000
DTSTART:20240201T130000
DTEND:20240201T140000
SUMMARY:211 Dry Creek Road\, Goodlettsville
LOCATION:211 Dry Creek Road\, Goodlettsville\, TN 37072\, US
DESCRIPTION:ABSOLUTE AUCTION - Unique Auction Opportunity: Fire-Damaged
  Basement House on a Spacious One-Acre Lot.  The house has
  suffered fire damage and is in need of significant repairs 
 or reconstruction. This presents a perfect canvas for those 
 looking to rebuild or renovate according to their own vision
  and design preferences. Ideal for investors\, builders\, or a
 nyone dreaming of customizing their own home from the groun
 d up.
URL:https://www.parksauction.com/auctions/detail/bw113927
SEQUENCE:1
END:VEVENT
END:VCALENDAR