BEGIN:VCALENDAR
VERSION:2.0
PRODID:-//ExpressionEngine Easy iCalendar plugin//NONSGML v2.0.1//EN
X-WR-TIMEZONE:America/Chicago
X-WR-CALNAME:Upcoming Auctions
BEGIN:VEVENT
UID:122535
DTSTAMP:20240713T100000
DTSTART:20240713T100000
DTEND:20240713T110000
SUMMARY:1022 Houston Drive\, Murfreesboro
LOCATION:1022 Houston Drive\, Murfreesboro\, TN 37130\, US
DESCRIPTION:4 bedroom\, 3 bath\, all-brick home offers over 2\,500 sq ft to
  live and grow in. Home features formal living room & dinin
 g room\, spacious hobby room/study\, attached 2-car carport\, a
 nd a large back yard with brick patio. 
URL:https://www.parksauction.com/auctions/detail/bw122535
SEQUENCE:1
END:VEVENT
END:VCALENDAR