BEGIN:VCALENDAR
VERSION:2.0
PRODID:-//ExpressionEngine Easy iCalendar plugin//NONSGML v2.0.0//EN
X-WR-TIMEZONE:America/Chicago
X-WR-CALNAME:Upcoming Auctions
BEGIN:VEVENT
UID:148906
DTSTAMP:20250923T120000
DTSTART:20250923T120000
DTEND:20251009T130000
SUMMARY:664 Reed Hollow Road\, Readyville
LOCATION:664 Reed Hollow Road\, Readyville\, TN 37149\, US
DESCRIPTION:COURT ORDERED ESTATE AUCTION - Concrete block building on .
 3 surveyed acres in Readyville. City water and electricity 
 on site. Perfect campsite for a quick weekend getaway with t
 he convenience to Murfreesboro and MTSU. BID ONLINE ONLY.
URL:https://www.parksauction.com/auctions/detail/bw148906
SEQUENCE:1
END:VEVENT
END:VCALENDAR