BEGIN:VCALENDAR
VERSION:2.0
PRODID:-//ExpressionEngine Easy iCalendar plugin//NONSGML v2.0.1//EN
X-WR-TIMEZONE:America/Chicago
X-WR-CALNAME:Upcoming Auctions
BEGIN:VEVENT
UID:158254
DTSTAMP:20260326T130000
DTSTART:20260326T130000
DTEND:20260326T140000
SUMMARY:2001 & 2002 Greengate Place\, Smyrna
LOCATION:2001 Greengate Place\, Smyrna\, TN 37167\, US
DESCRIPTION:2 large cul-de-sac building lots\, public sewer\, water\, elect
 ric available. No HOA.  - ONLINE BIDDING AVAILABLE. 
URL:https://www.parksauction.com/auctions/detail/bw158254
SEQUENCE:1
END:VEVENT
END:VCALENDAR