BEGIN:VCALENDAR
VERSION:2.0
PRODID:-//ExpressionEngine Easy iCalendar plugin//NONSGML v2.0.1//EN
X-WR-TIMEZONE:America/Chicago
X-WR-CALNAME:Upcoming Auctions
BEGIN:VEVENT
UID:158332
DTSTAMP:20260328T100000
DTSTART:20260328T100000
DTEND:20260328T110000
SUMMARY:6789 Ridley Earp Road\, Christiana
LOCATION:6789 Ridley Earp Road\, Christiana\, TN 37037\, US
DESCRIPTION:House on 5± Acres & Personal Property - This property is l
 ocated a short distance off Manchester Pike. Currently ther
 e is a cottage-style\, stone and vinyl home built in the 1930
 's\, a large barn (needs attention)\, a well in enclosed build
 ing\, and 5± acres of mostly pasture. There is 371 ft. of r
 oad frontage and an additional soil site has been establishe
 d.
URL:https://www.parksauction.com/auctions/detail/bw158332
SEQUENCE:1
END:VEVENT
END:VCALENDAR