BEGIN:VCALENDAR
VERSION:2.0
PRODID:-//ExpressionEngine Easy iCalendar plugin//NONSGML v2.0.0//EN
X-WR-TIMEZONE:America/Chicago
X-WR-CALNAME:Upcoming Auctions
BEGIN:VEVENT
UID:160805
DTSTAMP:20260421T080000
DTSTART:20260421T080000
DTEND:20260429T120000
SUMMARY:812 Spur Road\, Decherd
LOCATION:812 Spur Road\, Decherd\, TN 37324\, US
DESCRIPTION:ONLINE ONLY LAND AUCTION - 6.76± acre tract offering an ex
 cellent building site with newly identified soil site. Has e
 xisting mobile home (in need of extensive repairs). Ideal fo
 r new construction in a peaceful setting with plenty of spac
 e to build.
URL:https://www.parksauction.com/auctions/detail/bw160805
SEQUENCE:1
END:VEVENT
END:VCALENDAR