BEGIN:VCALENDAR
VERSION:2.0
PRODID:-//ExpressionEngine Easy iCalendar plugin//NONSGML v2.0.1//EN
X-WR-TIMEZONE:America/Chicago
X-WR-CALNAME:Upcoming Auctions
BEGIN:VEVENT
UID:160843
DTSTAMP:20260507T170000
DTSTART:20260507T170000
DTEND:20260507T180000
SUMMARY:403 W 13th Street\, Columbia
LOCATION:403 W 13th Street\, Columbia\, TN 38401\, US
DESCRIPTION:Great Investment Opportunity - Amazing opportunity to purcha
 se a property for rental or flip. 2 Bedroom\, 2 bath with par
 k-like backyard. Located in downtown Columbia\, this property
  is close to schools\, shopping\, churches\, and restaurants.
URL:https://www.parksauction.com/auctions/detail/bw160843
SEQUENCE:1
END:VEVENT
END:VCALENDAR