BEGIN:VCALENDAR
VERSION:2.0
PRODID:-//ExpressionEngine Easy iCalendar plugin//NONSGML v2.0.1//EN
X-WR-TIMEZONE:America/Chicago
X-WR-CALNAME:Upcoming Auctions
BEGIN:VEVENT
UID:160851
DTSTAMP:20260507T160000
DTSTART:20260507T160000
DTEND:20260507T170000
SUMMARY:290 E. Cemetery Street\, Pulaski
LOCATION:290 E. Cemetery Street\, Pulaski\, TN 38478\, US
DESCRIPTION:ABSOLUTE ESTATE AUCTION - This neat and clean duplex is loc
 ated a short distance from downtown at the corner of E Cemet
 ery & Rhodes. Unit #1 - 3 bedroom\, 1 bath. Unit #2 - 2 bed
 room\, 2 baths. 
URL:https://www.parksauction.com/auctions/detail/bw160851
SEQUENCE:1
END:VEVENT
END:VCALENDAR