BEGIN:VCALENDAR
VERSION:2.0
PRODID:-//ExpressionEngine Easy iCalendar plugin//NONSGML v2.0.1//EN
X-WR-TIMEZONE:America/Chicago
X-WR-CALNAME:Upcoming Auctions
BEGIN:VEVENT
UID:160864
DTSTAMP:20260422T060000
DTSTART:20260422T060000
DTEND:20260513T120000
SUMMARY:0 Center Hill Rd\, Woodbury
LOCATION:0 Center Hill Rd\, Woodbury\, TN 37190\, US
DESCRIPTION:ONLINE ONLY LAND AUCTION - 3 Land Sales in One Day! Two buil
 d-ready tracts in a beautiful country setting near Short Mou
 ntain Distillery. 6.29± Acres and 6.23± Acres\, both approv
 ed for 3-bedroom homes with utilities at the road.
URL:https://www.parksauction.com/auctions/detail/bw160864
SEQUENCE:1
END:VEVENT
END:VCALENDAR