BEGIN:VCALENDAR
VERSION:2.0
PRODID:-//ExpressionEngine Easy iCalendar plugin//NONSGML v2.0.0//EN
X-WR-TIMEZONE:America/Chicago
X-WR-CALNAME:Upcoming Auctions
BEGIN:VEVENT
UID:160870
DTSTAMP:20260509T100000
DTSTART:20260509T100000
DTEND:20260509T110000
SUMMARY:1352 Holly Tree Gap Road\, Brentwood
LOCATION:1352 Holly Tree Gap Road\, Brentwood\, TN 37027\, US
DESCRIPTION:2 Brentwood Acreage OpportunitiesÂ - Offered Separately.Â  H
 ouse tract: 4 BR\, 2.5 bath home with 4\,020Â± sq ft andÂ 4-ca
 r attached garage on 4.5Â± beautiful acres. Tract 11:Â An ad
 joining 4.82Â± acre undeveloped tract featuring establishedÂ
  septic areasâ€”perfect for building\, investment\, or future 
 development.Â 
URL:https://www.parksauction.com/auctions/detail/bw160870
SEQUENCE:1
END:VEVENT
END:VCALENDAR