BEGIN:VCALENDAR
VERSION:2.0
PRODID:-//ExpressionEngine Easy iCalendar plugin//NONSGML v2.0.1//EN
X-WR-TIMEZONE:America/Chicago
X-WR-CALNAME:Upcoming Auctions
BEGIN:VEVENT
UID:160878
DTSTAMP:20260422T080000
DTSTART:20260422T080000
DTEND:20260513T120000
SUMMARY:0 Jacksboro Trail\, Morrison
LOCATION:0 Jacksboro Trail\, Morrison\, TN 37357\, US
DESCRIPTION:ONLINE ONLY LAND AUCTION - 3 Land Sales in One Day! 4 Beauti
 ful Tracts ranging from 8± acres to 24± acres in a seclude
 d setting. Each tract offers excellent homesites suitable fo
 r 4-5 bedroom homes\, ready to build.
URL:https://www.parksauction.com/auctions/detail/bw160878
SEQUENCE:1
END:VEVENT
END:VCALENDAR