BEGIN:VCALENDAR
VERSION:2.0
PRODID:-//ExpressionEngine Easy iCalendar plugin//NONSGML v2.0.0//EN
X-WR-TIMEZONE:America/Chicago
X-WR-CALNAME:Upcoming Auctions
BEGIN:VEVENT
UID:160884
DTSTAMP:20260422T080000
DTSTART:20260422T080000
DTEND:20260513T120000
SUMMARY:0 Young Ridge Road\, Sparta
LOCATION:0 Young Ridge Road\, Sparta\, TN 38583\, US
DESCRIPTION:ONLINE ONLY LAND AUCTION - 3 Land Sales in One Day! 8.88± A
 cres in a peaceful setting just minutes from Smithville & Ce
 nter Hill Lake. Soil site for 3-bedroom home with utilities 
 at the road\, ready for your custom build.
URL:https://www.parksauction.com/auctions/detail/bw160884
SEQUENCE:1
END:VEVENT
END:VCALENDAR