BEGIN:VCALENDAR
VERSION:2.0
PRODID:-//ExpressionEngine Easy iCalendar plugin//NONSGML v2.0.1//EN
X-WR-TIMEZONE:America/Chicago
X-WR-CALNAME:Upcoming Auctions
BEGIN:VEVENT
UID:160947
DTSTAMP:20260422T080000
DTSTART:20260422T080000
DTEND:20260505T200000
SUMMARY:Holland Street #10 Online Auction
LOCATION:317 East Holland Street\, Shelbyville\, TN 37160\, US
DESCRIPTION:Bid Now Until Tuesday\, May 5\, 2026 at 8:00 pm (soft close)
URL:https://www.parksauction.com/auctions/detail/bw160947
SEQUENCE:1
END:VEVENT
END:VCALENDAR