BEGIN:VCALENDAR
VERSION:2.0
PRODID:-//ExpressionEngine Easy iCalendar plugin//NONSGML v2.0.1//EN
X-WR-TIMEZONE:America/Chicago
X-WR-CALNAME:Upcoming Auctions
BEGIN:VEVENT
UID:160967
DTSTAMP:20260422T080000
DTSTART:20260422T080000
DTEND:20260503T200000
SUMMARY:Hale #1 Online Auction
LOCATION:4767 Eagleville Pike\, Chapel Hill\, TN 37034\, US
DESCRIPTION:Bid Now Until Sunday\, May 3\, 2026 at 8:00 pm (soft close)
URL:https://www.parksauction.com/auctions/detail/bw160967
SEQUENCE:1
END:VEVENT
END:VCALENDAR